BEGIN:VCALENDAR
PRODID:-//Calendar export
VERSION:2.0
X-WR-TIMEZONE:Etc/GMT
BEGIN:VTIMEZONE
TZID:GMT Standard Time
BEGIN:STANDARD
TZOFFSETFROM:+0000
TZOFFSETTO:+0000
END:STANDARD
END:VTIMEZONE
BEGIN:VEVENT
UID:AE776
DTSTAMP:20260424T162600Z
SUMMARY:COVID-19 Vaccinations in Adolescents
CLASS:PUBLIC
DESCRIPTION:During this 15-minute webinar\, the speaker will discuss th
 e use\, safety
 \, and efficacy of COVID-19 mRNA vaccines for individuals aged 12-18 year
 s.
STATUS:CONFIRMED
PRIORITY:1
DTSTART:20210928T180000Z
DTEND:20210928T181500Z
TRANSP:OPAQUE
END:VEVENT
END:VCALENDAR
